BEGIN:VCALENDAR
VERSION:2.0
PRODID:-//Sabre//Sabre VObject 4.5.8//EN
CALSCALE:GREGORIAN
BEGIN:VEVENT
UID:sabre-vobject-ae80348e-f093-4d95-93bb-9279886e0aa3
DTSTAMP:20260425T115711Z
SUMMARY:Summer Reading Program Especially for Teens Library Video Blitz
DESCRIPTION:Summer Reading Program Especially for Teens Library Video Blitz
 \n
X-ALT-DESC:FMTTYPE=text/html:<!DOCTYPE HTML PUBLIC "-//W3C//DTD HTML 3.2//E
 N"><HTML><p>Summer Reading Program Especially for Teens Library Video Blit
 z<o:p></o:p></p>\n</HTML>
CREATED;TZID=America/Chicago:20170913T134319
URL;VALUE=URI:https://rucker.armymwr.com/calendar/event
DTSTART;TZID=America/Chicago:20170621T130000
DTEND;TZID=America/Chicago:20170621T150000
SEQUENCE:0
END:VEVENT
END:VCALENDAR
