BEGIN:VCALENDAR
VERSION:2.0
PRODID:-//Sabre//Sabre VObject 4.5.8//EN
CALSCALE:GREGORIAN
BEGIN:VEVENT
UID:sabre-vobject-d5d15639-e21f-4b8b-ba8c-373be3634484
DTSTAMP:20260426T023934Z
SUMMARY:Summer Reading Program Fun with Science
DESCRIPTION:Summer Reading Program Fun with Science\n
X-ALT-DESC:FMTTYPE=text/html:<!DOCTYPE HTML PUBLIC "-//W3C//DTD HTML 3.2//E
 N"><HTML><p>Summer Reading Program Fun with Science</p>\n</HTML>
CREATED;TZID=America/Chicago:20170913T134319
URL;VALUE=URI:https://rucker.armymwr.com/calendar/event
DTSTART;TZID=America/Chicago:20170615T130000
DTEND;TZID=America/Chicago:20170615T140000
SEQUENCE:0
END:VEVENT
END:VCALENDAR
