BEGIN:VCALENDAR
VERSION:2.0
PRODID:-//Sabre//Sabre VObject 4.5.8//EN
CALSCALE:GREGORIAN
BEGIN:VEVENT
UID:sabre-vobject-570ef396-1193-4d56-a814-1c814036139c
DTSTAMP:20260424T100822Z
SUMMARY:Youth Center Wild Adventures
DESCRIPTION:Youth Center Wild Adventures\n
X-ALT-DESC:FMTTYPE=text/html:<!DOCTYPE HTML PUBLIC "-//W3C//DTD HTML 3.2//E
 N"><HTML><p>Youth Center Wild Adventures</p>\n</HTML>
CREATED;TZID=America/Chicago:20170913T134319
URL;VALUE=URI:https://rucker.armymwr.com/calendar/event
DTSTART;TZID=America/Chicago:20170708T000000
DTEND;TZID=America/Chicago:20170708T235959
SEQUENCE:0
END:VEVENT
END:VCALENDAR
