BEGIN:VCALENDAR
VERSION:2.0
PRODID:-//Sabre//Sabre VObject 4.5.8//EN
CALSCALE:GREGORIAN
BEGIN:VEVENT
UID:sabre-vobject-338d0448-f56a-47c4-a274-469ec9fcc08c
DTSTAMP:20260423T155257Z
SUMMARY: Back to School Day Trip 
DESCRIPTION:Back to School Day Trip\n
X-ALT-DESC:FMTTYPE=text/html:<!DOCTYPE HTML PUBLIC "-//W3C//DTD HTML 3.2//E
 N"><HTML><p>Back to School Day Trip</p>\n</HTML>
CREATED;TZID=America/Chicago:20170913T134319
URL;VALUE=URI:https://rucker.armymwr.com/calendar/event
DTSTART;TZID=America/Chicago:20170729T070000
DTEND;TZID=America/Chicago:20170729T200000
SEQUENCE:0
END:VEVENT
END:VCALENDAR
