BEGIN:VCALENDAR
VERSION:2.0
PRODID:-//Sabre//Sabre VObject 4.5.8//EN
CALSCALE:GREGORIAN
BEGIN:VEVENT
UID:sabre-vobject-405247a1-2fd7-44f9-9f2b-c25ddf7740c7
DTSTAMP:20260424T142409Z
SUMMARY:Rock'et Out Summer
DESCRIPTION:Rock&#39\;et Out Summer\n
X-ALT-DESC:FMTTYPE=text/html:<!DOCTYPE HTML PUBLIC "-//W3C//DTD HTML 3.2//E
 N"><HTML><p>Rock&#39\;et Out Summer</p>\n</HTML>
CREATED;TZID=America/Chicago:20170913T134319
URL;VALUE=URI:https://rucker.armymwr.com/calendar/event
DTSTART;TZID=America/Chicago:20170601T070000
DTEND;TZID=America/Chicago:20170601T130000
SEQUENCE:0
END:VEVENT
END:VCALENDAR
