BEGIN:VCALENDAR
VERSION:2.0
PRODID:-//Sabre//Sabre VObject 4.5.8//EN
CALSCALE:GREGORIAN
BEGIN:VEVENT
UID:sabre-vobject-b2889ef5-5ed5-4d56-af50-4da14b668703
DTSTAMP:20260425T031707Z
SUMMARY:Golf Lessons with B.O.S.S.
DESCRIPTION:⛳ Hit the Links with B.O.S.S. - Free Golf Lessons for Single 
 Soldiers!\n
X-ALT-DESC:FMTTYPE=text/html:<!DOCTYPE HTML PUBLIC "-//W3C//DTD HTML 3.2//E
 N"><HTML><p>⛳ Hit the Links with B.O.S.S. - Free Golf Lessons for Single
  Soldiers!</p>\n</HTML>
CREATED;TZID=America/Chicago:20260422T113203
URL;VALUE=URI:https://rucker.armymwr.com/calendar/event
DTSTART;TZID=America/Chicago:20260605T120000
DTEND;TZID=America/Chicago:20260605T140000
SEQUENCE:0
END:VEVENT
END:VCALENDAR
