BEGIN:VCALENDAR
VERSION:2.0
PRODID:-//Sabre//Sabre VObject 4.5.8//EN
CALSCALE:GREGORIAN
BEGIN:VEVENT
UID:sabre-vobject-13995ab6-4a04-406b-8b81-693fc845c9c7
DTSTAMP:20260423T135810Z
SUMMARY:Chess Club
DESCRIPTION:♟️ Checkmate Your Boredom at the Monthly Chess Club! ♟️
 \n
X-ALT-DESC:FMTTYPE=text/html:<!DOCTYPE HTML PUBLIC "-//W3C//DTD HTML 3.2//E
 N"><HTML><p>♟️ Checkmate Your Boredom at the Monthly Chess Club! ♟
 ️</p>\n</HTML>
CREATED;TZID=America/Chicago:20260422T111912
URL;VALUE=URI:https://rucker.armymwr.com/calendar/event
DTSTART;TZID=America/Chicago:20260514T154500
DTEND;TZID=America/Chicago:20260514T170000
SEQUENCE:0
END:VEVENT
END:VCALENDAR
