BEGIN:VCALENDAR
VERSION:2.0
PRODID:-//Sabre//Sabre VObject 4.5.8//EN
CALSCALE:GREGORIAN
BEGIN:VEVENT
UID:sabre-vobject-97bd465b-4f1e-45c2-98ca-c8a7d9c8cef7
DTSTAMP:20260424T015817Z
SUMMARY:Level Up Your Summer!
DESCRIPTION:Power Up! It&#39\;s Time to &quot\;Level Up Your Summer&quot\; 
 at the School Age Center!\n\nJoin us May 26th - August 7th for some all ar
 ound fun!\n
X-ALT-DESC:FMTTYPE=text/html:<!DOCTYPE HTML PUBLIC "-//W3C//DTD HTML 3.2//E
 N"><HTML><p>Power Up! It&#39\;s Time to &quot\;Level Up Your Summer&quot\;
  at the School Age Center!</p>\n\n<p>Join us May 26th - August 7th for som
 e all around fun!</p>\n</HTML>
CREATED;TZID=America/Chicago:20260422T095403
URL;VALUE=URI:https://rucker.armymwr.com/calendar/event
DTSTART;TZID=America/Chicago:20260526T053000
DTEND;TZID=America/Chicago:20260526T173000
SEQUENCE:0
END:VEVENT
END:VCALENDAR
