BEGIN:VCALENDAR
VERSION:2.0
PRODID:-//Sabre//Sabre VObject 4.5.8//EN
CALSCALE:GREGORIAN
BEGIN:VEVENT
UID:sabre-vobject-213484df-6491-4d79-927e-5733e15a64f8
DTSTAMP:20260423T212243Z
SUMMARY:EFMP Storytime MAY
DESCRIPTION:&nbsp\;✨ Let&#39\;s Read\, Play\, &amp\; Learn Together at EF
 MP Storytime!\n
X-ALT-DESC:FMTTYPE=text/html:<!DOCTYPE HTML PUBLIC "-//W3C//DTD HTML 3.2//E
 N"><HTML><p>&nbsp\;✨ Let&#39\;s Read\, Play\, &amp\; Learn Together at E
 FMP Storytime!</p>\n</HTML>
CREATED;TZID=America/Chicago:20260421T150207
URL;VALUE=URI:https://rucker.armymwr.com/calendar/event
DTSTART;TZID=America/Chicago:20260518T101500
DTEND;TZID=America/Chicago:20260518T110000
SEQUENCE:0
END:VEVENT
END:VCALENDAR
