BEGIN:VCALENDAR
VERSION:2.0
PRODID:-//Sabre//Sabre VObject 4.5.8//EN
CALSCALE:GREGORIAN
BEGIN:VEVENT
UID:sabre-vobject-db100f33-13f2-4302-89df-51b58d1e5d5e
DTSTAMP:20260422T214321Z
SUMMARY:6-7 Deep Sea Fishing Trip
DESCRIPTION:
X-ALT-DESC:FMTTYPE=text/html:<!DOCTYPE HTML PUBLIC "-//W3C//DTD HTML 3.2//E
 N"><HTML></HTML>
CREATED;TZID=America/Chicago:20260421T125530
URL;VALUE=URI:https://rucker.armymwr.com/calendar/event
DTSTART;TZID=America/Chicago:20260509T033000
DTEND;TZID=America/Chicago:20260509T043000
SEQUENCE:0
END:VEVENT
BEGIN:VEVENT
UID:sabre-vobject-eadd5041-c5bc-4226-96d4-b83e199bf364
DTSTAMP:20260422T214321Z
SUMMARY:6-7 Deep Sea Fishing Trip
DESCRIPTION:
X-ALT-DESC:FMTTYPE=text/html:<!DOCTYPE HTML PUBLIC "-//W3C//DTD HTML 3.2//E
 N"><HTML></HTML>
CREATED;TZID=America/Chicago:20260421T125530
URL;VALUE=URI:https://rucker.armymwr.com/calendar/event
DTSTART;TZID=America/Chicago:20260613T033000
DTEND;TZID=America/Chicago:20260613T043000
SEQUENCE:1
END:VEVENT
BEGIN:VEVENT
UID:sabre-vobject-59eb9792-f1f3-45c2-a5a0-60dbcca8d1fe
DTSTAMP:20260422T214321Z
SUMMARY:6-7 Deep Sea Fishing Trip
DESCRIPTION:
X-ALT-DESC:FMTTYPE=text/html:<!DOCTYPE HTML PUBLIC "-//W3C//DTD HTML 3.2//E
 N"><HTML></HTML>
CREATED;TZID=America/Chicago:20260421T125530
URL;VALUE=URI:https://rucker.armymwr.com/calendar/event
DTSTART;TZID=America/Chicago:20260829T033000
DTEND;TZID=America/Chicago:20260829T043000
SEQUENCE:2
END:VEVENT
BEGIN:VEVENT
UID:sabre-vobject-fdfb3ab4-9eeb-496a-99d1-902ba0cfd8d6
DTSTAMP:20260422T214321Z
SUMMARY:6-7 Deep Sea Fishing Trip
DESCRIPTION:
X-ALT-DESC:FMTTYPE=text/html:<!DOCTYPE HTML PUBLIC "-//W3C//DTD HTML 3.2//E
 N"><HTML></HTML>
CREATED;TZID=America/Chicago:20260421T125530
URL;VALUE=URI:https://rucker.armymwr.com/calendar/event
DTSTART;TZID=America/Chicago:20260808T033000
DTEND;TZID=America/Chicago:20260808T043000
SEQUENCE:3
END:VEVENT
END:VCALENDAR
