BEGIN:VCALENDAR
VERSION:2.0
PRODID:-//Sabre//Sabre VObject 4.5.8//EN
CALSCALE:GREGORIAN
BEGIN:VEVENT
UID:sabre-vobject-bca8300e-0403-4e2d-b3c6-ad93f9cf37d8
DTSTAMP:20260423T195056Z
SUMMARY:Mom & Me: Light of my Life
DESCRIPTION:🕯️ Light Up Her Life with a Custom Gift at our &quot\;Mom 
 &amp\; Me&quot\; Candle Making Workshop!\n
X-ALT-DESC:FMTTYPE=text/html:<!DOCTYPE HTML PUBLIC "-//W3C//DTD HTML 3.2//E
 N"><HTML><p>🕯️ Light Up Her Life with a Custom Gift at our &quot\;Mom
  &amp\; Me&quot\; Candle Making Workshop!</p>\n</HTML>
CREATED;TZID=America/Chicago:20260421T124152
URL;VALUE=URI:https://rucker.armymwr.com/calendar/event
DTSTART;TZID=America/Chicago:20260508T180000
DTEND;TZID=America/Chicago:20260508T200000
SEQUENCE:0
END:VEVENT
END:VCALENDAR
