BEGIN:VCALENDAR
VERSION:2.0
PRODID:-//Sabre//Sabre VObject 4.5.8//EN
CALSCALE:GREGORIAN
BEGIN:VEVENT
UID:sabre-vobject-46e3f100-be78-45e6-87b1-23ca002fcd53
DTSTAMP:20260423T195058Z
SUMMARY:Military Spouse Appreciation Luncheon
DESCRIPTION:In honor of your incredible sacrifices and unwavering support\,
  we want to say &quot\;Thank You.&quot\; Please join us for our annual&nbs
 p\;Military Spouse Appreciation Luncheon\, a special event dedicated to ce
 lebrating you!\n
X-ALT-DESC:FMTTYPE=text/html:<!DOCTYPE HTML PUBLIC "-//W3C//DTD HTML 3.2//E
 N"><HTML><p>In honor of your incredible sacrifices and unwavering support\
 , we want to say &quot\;Thank You.&quot\; Please join us for our annual&nb
 sp\;<strong>Military Spouse Appreciation Luncheon</strong>\, a special eve
 nt dedicated to celebrating you!</p>\n</HTML>
CREATED;TZID=America/Chicago:20260421T123343
URL;VALUE=URI:https://rucker.armymwr.com/calendar/event
DTSTART;TZID=America/Chicago:20260508T110000
DTEND;TZID=America/Chicago:20260508T130000
SEQUENCE:0
END:VEVENT
END:VCALENDAR
