BEGIN:VCALENDAR
VERSION:2.0
PRODID:-//Sabre//Sabre VObject 4.5.8//EN
CALSCALE:GREGORIAN
BEGIN:VEVENT
UID:sabre-vobject-3c76d30e-c101-4f32-b0b9-08651cd56eb1
DTSTAMP:20260423T213658Z
SUMMARY:DTS Sweet Creek Farm Market Spring Chicken Festival
DESCRIPTION:Take a Day Trip to the Sweet Creek Farm Spring Chicken Festival
 !\n
X-ALT-DESC:FMTTYPE=text/html:<!DOCTYPE HTML PUBLIC "-//W3C//DTD HTML 3.2//E
 N"><HTML><p>Take a Day Trip to the Sweet Creek Farm Spring Chicken Festiva
 l!</p>\n</HTML>
CREATED;TZID=America/Chicago:20260421T112603
URL;VALUE=URI:https://rucker.armymwr.com/calendar/event
DTSTART;TZID=America/Chicago:20260502T083000
DTEND;TZID=America/Chicago:20260502T153000
SEQUENCE:0
END:VEVENT
END:VCALENDAR
