BEGIN:VCALENDAR
VERSION:2.0
PRODID:-//Sabre//Sabre VObject 4.5.8//EN
CALSCALE:GREGORIAN
BEGIN:VEVENT
UID:sabre-vobject-5849f5d9-c985-4d5a-a3ca-72ccbc377285
DTSTAMP:20260423T102942Z
SUMMARY:May Sewing Class
DESCRIPTION:
X-ALT-DESC:FMTTYPE=text/html:<!DOCTYPE HTML PUBLIC "-//W3C//DTD HTML 3.2//E
 N"><HTML></HTML>
CREATED;TZID=America/Chicago:20260421T110936
URL;VALUE=URI:https://rucker.armymwr.com/calendar/event
DTSTART;TZID=America/Chicago:20260505T093000
DTEND;TZID=America/Chicago:20260505T103000
SEQUENCE:0
END:VEVENT
BEGIN:VEVENT
UID:sabre-vobject-f611cc33-c911-4cdf-8260-2d068771bf1a
DTSTAMP:20260423T102942Z
SUMMARY:May Sewing Class
DESCRIPTION:
X-ALT-DESC:FMTTYPE=text/html:<!DOCTYPE HTML PUBLIC "-//W3C//DTD HTML 3.2//E
 N"><HTML></HTML>
CREATED;TZID=America/Chicago:20260421T110936
URL;VALUE=URI:https://rucker.armymwr.com/calendar/event
DTSTART;TZID=America/Chicago:20260512T093000
DTEND;TZID=America/Chicago:20260512T103000
SEQUENCE:1
END:VEVENT
BEGIN:VEVENT
UID:sabre-vobject-a9997b31-ab31-4def-a1ba-8d5e763f596e
DTSTAMP:20260423T102942Z
SUMMARY:May Sewing Class
DESCRIPTION:
X-ALT-DESC:FMTTYPE=text/html:<!DOCTYPE HTML PUBLIC "-//W3C//DTD HTML 3.2//E
 N"><HTML></HTML>
CREATED;TZID=America/Chicago:20260421T110936
URL;VALUE=URI:https://rucker.armymwr.com/calendar/event
DTSTART;TZID=America/Chicago:20260516T093000
DTEND;TZID=America/Chicago:20260516T103000
SEQUENCE:2
END:VEVENT
BEGIN:VEVENT
UID:sabre-vobject-caa01f26-2ae6-4ec0-b643-fe3f9352d3b9
DTSTAMP:20260423T102942Z
SUMMARY:May Sewing Class
DESCRIPTION:
X-ALT-DESC:FMTTYPE=text/html:<!DOCTYPE HTML PUBLIC "-//W3C//DTD HTML 3.2//E
 N"><HTML></HTML>
CREATED;TZID=America/Chicago:20260421T110936
URL;VALUE=URI:https://rucker.armymwr.com/calendar/event
DTSTART;TZID=America/Chicago:20260519T093000
DTEND;TZID=America/Chicago:20260519T103000
SEQUENCE:3
END:VEVENT
BEGIN:VEVENT
UID:sabre-vobject-73005997-97e4-4136-b17b-89e271a8e8b2
DTSTAMP:20260423T102942Z
SUMMARY:May Sewing Class
DESCRIPTION:
X-ALT-DESC:FMTTYPE=text/html:<!DOCTYPE HTML PUBLIC "-//W3C//DTD HTML 3.2//E
 N"><HTML></HTML>
CREATED;TZID=America/Chicago:20260421T110936
URL;VALUE=URI:https://rucker.armymwr.com/calendar/event
DTSTART;TZID=America/Chicago:20260526T093000
DTEND;TZID=America/Chicago:20260526T103000
SEQUENCE:4
END:VEVENT
END:VCALENDAR
