BEGIN:VCALENDAR
VERSION:2.0
PRODID:-//Sabre//Sabre VObject 4.5.8//EN
CALSCALE:GREGORIAN
BEGIN:VEVENT
UID:sabre-vobject-1ff5e1e5-b617-4a45-9984-1136bb3efc20
DTSTAMP:20260425T115710Z
SUMMARY:Spring Break Craftapalooza
DESCRIPTION:Get Creative at Our Spring Break Craftapalooza!\n
X-ALT-DESC:FMTTYPE=text/html:<!DOCTYPE HTML PUBLIC "-//W3C//DTD HTML 3.2//E
 N"><HTML><p>Get Creative at Our Spring Break Craftapalooza!</p>\n</HTML>
CREATED;TZID=America/Chicago:20260305T164454
URL;VALUE=URI:https://rucker.armymwr.com/calendar/event
DTSTART;TZID=America/Chicago:20260324T100000
DTEND;TZID=America/Chicago:20260327T160000
SEQUENCE:0
END:VEVENT
END:VCALENDAR
