BEGIN:VCALENDAR
VERSION:2.0
PRODID:-//Sabre//Sabre VObject 4.5.8//EN
CALSCALE:GREGORIAN
BEGIN:VEVENT
UID:sabre-vobject-097dd94d-0bfb-49e3-9e40-14124907f849
DTSTAMP:20260425T035742Z
SUMMARY:Bingo Green & Gold 2026
DESCRIPTION:🍀 Win a Designer Bag at our Bingo Green &amp\; Gold Event! 
 🍀\n
X-ALT-DESC:FMTTYPE=text/html:<!DOCTYPE HTML PUBLIC "-//W3C//DTD HTML 3.2//E
 N"><HTML><p>🍀 Win a Designer Bag at our Bingo Green &amp\; Gold Event! 
 🍀</p>\n</HTML>
CREATED;TZID=America/Chicago:20260304T152316
URL;VALUE=URI:https://rucker.armymwr.com/calendar/event
DTSTART;TZID=America/Chicago:20260316T000000
DTEND;TZID=America/Chicago:20260320T235959
SEQUENCE:0
END:VEVENT
END:VCALENDAR
