BEGIN:VCALENDAR
VERSION:2.0
PRODID:-//Sabre//Sabre VObject 4.5.8//EN
CALSCALE:GREGORIAN
BEGIN:VEVENT
UID:sabre-vobject-9cf14463-dea6-414c-a834-bcd7657ebbf3
DTSTAMP:20260422T154243Z
SUMMARY:March Sewing Class
DESCRIPTION:Get Creative with Our March Sewing Classes!\n
X-ALT-DESC:FMTTYPE=text/html:<!DOCTYPE HTML PUBLIC "-//W3C//DTD HTML 3.2//E
 N"><HTML><p>Get Creative with Our March Sewing Classes!</p>\n</HTML>
CREATED;TZID=America/Chicago:20260304T145734
URL;VALUE=URI:https://rucker.armymwr.com/calendar/event
DTSTART;TZID=America/Chicago:20260303T093000
DTEND;TZID=America/Chicago:20260303T103000
SEQUENCE:0
END:VEVENT
BEGIN:VEVENT
UID:sabre-vobject-ba5637c8-bd2d-49ce-94c0-6ae36fdd7df0
DTSTAMP:20260422T154243Z
SUMMARY:March Sewing Class
DESCRIPTION:Get Creative with Our March Sewing Classes!\n
X-ALT-DESC:FMTTYPE=text/html:<!DOCTYPE HTML PUBLIC "-//W3C//DTD HTML 3.2//E
 N"><HTML><p>Get Creative with Our March Sewing Classes!</p>\n</HTML>
CREATED;TZID=America/Chicago:20260304T145734
URL;VALUE=URI:https://rucker.armymwr.com/calendar/event
DTSTART;TZID=America/Chicago:20260310T093000
DTEND;TZID=America/Chicago:20260310T103000
SEQUENCE:1
END:VEVENT
BEGIN:VEVENT
UID:sabre-vobject-f8a73e82-4e1f-4a26-a6ca-9113e3eb8683
DTSTAMP:20260422T154243Z
SUMMARY:March Sewing Class
DESCRIPTION:Get Creative with Our March Sewing Classes!\n
X-ALT-DESC:FMTTYPE=text/html:<!DOCTYPE HTML PUBLIC "-//W3C//DTD HTML 3.2//E
 N"><HTML><p>Get Creative with Our March Sewing Classes!</p>\n</HTML>
CREATED;TZID=America/Chicago:20260304T145734
URL;VALUE=URI:https://rucker.armymwr.com/calendar/event
DTSTART;TZID=America/Chicago:20260317T093000
DTEND;TZID=America/Chicago:20260317T103000
SEQUENCE:2
END:VEVENT
BEGIN:VEVENT
UID:sabre-vobject-2137666f-f9a9-4cb7-9b2f-7f14918a2da0
DTSTAMP:20260422T154243Z
SUMMARY:March Sewing Class
DESCRIPTION:Get Creative with Our March Sewing Classes!\n
X-ALT-DESC:FMTTYPE=text/html:<!DOCTYPE HTML PUBLIC "-//W3C//DTD HTML 3.2//E
 N"><HTML><p>Get Creative with Our March Sewing Classes!</p>\n</HTML>
CREATED;TZID=America/Chicago:20260304T145734
URL;VALUE=URI:https://rucker.armymwr.com/calendar/event
DTSTART;TZID=America/Chicago:20260324T093000
DTEND;TZID=America/Chicago:20260324T103000
SEQUENCE:3
END:VEVENT
BEGIN:VEVENT
UID:sabre-vobject-a61b0edb-9540-405f-8692-7a7c0d4e5255
DTSTAMP:20260422T154243Z
SUMMARY:March Sewing Class
DESCRIPTION:Get Creative with Our March Sewing Classes!\n
X-ALT-DESC:FMTTYPE=text/html:<!DOCTYPE HTML PUBLIC "-//W3C//DTD HTML 3.2//E
 N"><HTML><p>Get Creative with Our March Sewing Classes!</p>\n</HTML>
CREATED;TZID=America/Chicago:20260304T145734
URL;VALUE=URI:https://rucker.armymwr.com/calendar/event
DTSTART;TZID=America/Chicago:20260328T093000
DTEND;TZID=America/Chicago:20260328T103000
SEQUENCE:4
END:VEVENT
END:VCALENDAR
