BEGIN:VCALENDAR
VERSION:2.0
PRODID:-//Sabre//Sabre VObject 4.5.8//EN
CALSCALE:GREGORIAN
BEGIN:VEVENT
UID:sabre-vobject-2221252b-2376-4d7e-b010-4a404a34c2e5
DTSTAMP:20260420T234921Z
SUMMARY:President's Day Hours of Operation 2026
DESCRIPTION:Know before you go!\n
X-ALT-DESC:FMTTYPE=text/html:<!DOCTYPE HTML PUBLIC "-//W3C//DTD HTML 3.2//E
 N"><HTML><h3>Know before you go!</h3>\n</HTML>
CREATED;TZID=America/Chicago:20260210T121022
URL;VALUE=URI:https://rucker.armymwr.com/calendar/event
DTSTART;TZID=America/Chicago:20260216T000000
DTEND;TZID=America/Chicago:20260216T235959
SEQUENCE:0
END:VEVENT
END:VCALENDAR
