BEGIN:VCALENDAR
VERSION:2.0
PRODID:-//Sabre//Sabre VObject 4.5.8//EN
CALSCALE:GREGORIAN
BEGIN:VEVENT
UID:sabre-vobject-31f404ed-ddf2-4419-a815-b2209d97a98a
DTSTAMP:20260421T010717Z
SUMMARY:You're Invited: Free Developmental Screening for Ages 0-3
DESCRIPTION:FREE Developmental Screening&nbsp\;for children from birth to t
 hree years old.\n\nTake an active role in your child&#39\;s development!\n
 \nThis event provides a valuable opportunity to check your child&#39\;s pr
 ogress in key developmental areas and ask professionals any questions you 
 may have.\n
X-ALT-DESC:FMTTYPE=text/html:<!DOCTYPE HTML PUBLIC "-//W3C//DTD HTML 3.2//E
 N"><HTML><p><strong>FREE Developmental Screening&nbsp\;for children from b
 irth to three years old.</strong></p>\n\n<p>Take an active role in your ch
 ild&#39\;s development!</p>\n\n<p>This event provides a valuable opportuni
 ty to check your child&#39\;s progress in key developmental areas and ask 
 professionals any questions you may have.</p>\n</HTML>
CREATED;TZID=America/Chicago:20260209T145909
URL;VALUE=URI:https://rucker.armymwr.com/calendar/event
DTSTART;TZID=America/Chicago:20260306T080000
DTEND;TZID=America/Chicago:20260306T110000
SEQUENCE:0
END:VEVENT
END:VCALENDAR
