BEGIN:VCALENDAR
VERSION:2.0
PRODID:-//Sabre//Sabre VObject 4.5.8//EN
CALSCALE:GREGORIAN
BEGIN:VEVENT
UID:sabre-vobject-988a6eac-e2d8-4af7-a9e3-783a02c1257d
DTSTAMP:20260422T184722Z
SUMMARY:MLK 2026 Hours of Operation
DESCRIPTION:Know before you go!\n
X-ALT-DESC:FMTTYPE=text/html:<!DOCTYPE HTML PUBLIC "-//W3C//DTD HTML 3.2//E
 N"><HTML><p>Know before you go!</p>\n</HTML>
CREATED;TZID=America/Chicago:20260128T115832
URL;VALUE=URI:https://rucker.armymwr.com/calendar/event
DTSTART;TZID=America/Chicago:20260119T000000
DTEND;TZID=America/Chicago:20260119T235959
SEQUENCE:0
END:VEVENT
END:VCALENDAR
