BEGIN:VCALENDAR
VERSION:2.0
PRODID:-//Sabre//Sabre VObject 4.5.8//EN
CALSCALE:GREGORIAN
BEGIN:VEVENT
UID:sabre-vobject-8887ca51-4ab4-4062-9c71-61f9733a4803
DTSTAMP:20260423T234455Z
SUMMARY:Glow Ball Tournament Jan.
DESCRIPTION:Golf&#39\;s never been brighter!\n\n9 Hole\, 4-Person team scra
 mble.\n
X-ALT-DESC:FMTTYPE=text/html:<!DOCTYPE HTML PUBLIC "-//W3C//DTD HTML 3.2//E
 N"><HTML><p>Golf&#39\;s never been brighter!</p>\n\n<p>9 Hole\, 4-Person t
 eam scramble.</p>\n</HTML>
CREATED;TZID=America/Chicago:20260113T104125
URL;VALUE=URI:https://rucker.armymwr.com/calendar/event
DTSTART;TZID=America/Chicago:20260130T170000
DTEND;TZID=America/Chicago:20260130T180000
SEQUENCE:0
END:VEVENT
END:VCALENDAR
