BEGIN:VCALENDAR
VERSION:2.0
PRODID:-//Sabre//Sabre VObject 4.5.8//EN
CALSCALE:GREGORIAN
BEGIN:VEVENT
UID:sabre-vobject-dba655a0-8e0a-4ddf-871f-2d5de1cafd8e
DTSTAMP:20260421T132844Z
SUMMARY:CC Bowling  League 2026
DESCRIPTION:Open to all DOW ID card holders 18 years of Age &amp\; Above\n\
 nRegister by January 30th\n
X-ALT-DESC:FMTTYPE=text/html:<!DOCTYPE HTML PUBLIC "-//W3C//DTD HTML 3.2//E
 N"><HTML><p>Open to all DOW ID card holders 18 years of Age &amp\; Above</
 p>\n\n<p>Register by January 30th</p>\n</HTML>
CREATED;TZID=America/Chicago:20260128T120041
URL;VALUE=URI:https://rucker.armymwr.com/calendar/event
DTSTART;TZID=America/Chicago:20260209T000000
DTEND;TZID=America/Chicago:20260209T235959
SEQUENCE:0
END:VEVENT
END:VCALENDAR
