BEGIN:VCALENDAR
VERSION:2.0
PRODID:-//Sabre//Sabre VObject 4.5.8//EN
CALSCALE:GREGORIAN
BEGIN:VEVENT
UID:sabre-vobject-250845ac-669e-44a6-9e08-0cc710c0f7de
DTSTAMP:20260424T230439Z
SUMMARY:Fort Rucker Tree Lighting Ceremony CANCELLED / Trees for Troops DAT
 E CHANGED
DESCRIPTION:Know before you go! We have had some weather changes.\n
X-ALT-DESC:FMTTYPE=text/html:<!DOCTYPE HTML PUBLIC "-//W3C//DTD HTML 3.2//E
 N"><HTML><p>Know before you go! We have had some weather changes.</p>\n</H
 TML>
CREATED;TZID=America/Chicago:20251204T145840
URL;VALUE=URI:https://rucker.armymwr.com/calendar/event
DTSTART;TZID=America/Chicago:20251205T170000
DTEND;TZID=America/Chicago:20251205T190000
SEQUENCE:0
END:VEVENT
BEGIN:VEVENT
UID:sabre-vobject-b371a8a2-8177-4b4a-852f-f4357c558362
DTSTAMP:20260424T230439Z
SUMMARY:Fort Rucker Tree Lighting Ceremony CANCELLED / Trees for Troops DAT
 E CHANGED
DESCRIPTION:Know before you go! We have had some weather changes.\n
X-ALT-DESC:FMTTYPE=text/html:<!DOCTYPE HTML PUBLIC "-//W3C//DTD HTML 3.2//E
 N"><HTML><p>Know before you go! We have had some weather changes.</p>\n</H
 TML>
CREATED;TZID=America/Chicago:20251204T145840
URL;VALUE=URI:https://rucker.armymwr.com/calendar/event
DTSTART;TZID=America/Chicago:20251206T090000
DTEND;TZID=America/Chicago:20251206T130000
SEQUENCE:1
END:VEVENT
END:VCALENDAR
