BEGIN:VCALENDAR
VERSION:2.0
PRODID:-//Sabre//Sabre VObject 4.5.8//EN
CALSCALE:GREGORIAN
BEGIN:VEVENT
UID:sabre-vobject-6740aa54-ac99-4abe-a0c6-8dbc9cb36e18
DTSTAMP:20260424T054442Z
SUMMARY:Go Army! Beat Navy! Watch Party
DESCRIPTION:Join Big Mike&#39\;s in cheering on your favorite team for the 
 Army Vs Navy Game!\n
X-ALT-DESC:FMTTYPE=text/html:<!DOCTYPE HTML PUBLIC "-//W3C//DTD HTML 3.2//E
 N"><HTML><p>Join Big Mike&#39\;s in cheering on your favorite team for the
  Army Vs Navy Game!</p>\n</HTML>
CREATED;TZID=America/Chicago:20251126T112440
URL;VALUE=URI:https://rucker.armymwr.com/calendar/event
DTSTART;TZID=America/Chicago:20251213T140000
DTEND;TZID=America/Chicago:20251213T230000
SEQUENCE:0
END:VEVENT
END:VCALENDAR
