BEGIN:VCALENDAR
VERSION:2.0
PRODID:-//Sabre//Sabre VObject 4.5.8//EN
CALSCALE:GREGORIAN
BEGIN:VEVENT
UID:sabre-vobject-cfcc23b4-e17a-424e-9c9d-49bbbf887823
DTSTAMP:20260424T100819Z
SUMMARY:Songwriting with Pendrick
DESCRIPTION:A fun and engaging workshop designed to take participants from 
 concept to completion in writing their own song.&nbsp\;\n
X-ALT-DESC:FMTTYPE=text/html:<!DOCTYPE HTML PUBLIC "-//W3C//DTD HTML 3.2//E
 N"><HTML><p>A fun and engaging workshop designed to take participants from
  concept to completion in writing their own song.&nbsp\;</p>\n</HTML>
CREATED;TZID=America/Chicago:20251125T160049
URL;VALUE=URI:https://rucker.armymwr.com/calendar/event
DTSTART;TZID=America/Chicago:20251212T150000
DTEND;TZID=America/Chicago:20251212T170000
SEQUENCE:0
END:VEVENT
END:VCALENDAR
