BEGIN:VCALENDAR
VERSION:2.0
PRODID:-//Sabre//Sabre VObject 4.5.8//EN
CALSCALE:GREGORIAN
BEGIN:VEVENT
UID:sabre-vobject-d497e726-48c9-4b30-a56d-0dd983f644c7
DTSTAMP:20260424T100821Z
SUMMARY:Meet at Mike's Spouses Night Dec. 2025
DESCRIPTION:Join us at Big Mike&#39\;s for an opportunity to network and fe
 llowship with fellow spouses!\n
X-ALT-DESC:FMTTYPE=text/html:<!DOCTYPE HTML PUBLIC "-//W3C//DTD HTML 3.2//E
 N"><HTML><p>Join us at Big Mike&#39\;s for an opportunity to network and f
 ellowship with fellow spouses!</p>\n</HTML>
CREATED;TZID=America/Chicago:20251125T155102
URL;VALUE=URI:https://rucker.armymwr.com/calendar/event
DTSTART;TZID=America/Chicago:20251211T180000
DTEND;TZID=America/Chicago:20251211T200000
SEQUENCE:0
END:VEVENT
END:VCALENDAR
