BEGIN:VCALENDAR
VERSION:2.0
PRODID:-//Sabre//Sabre VObject 4.5.8//EN
CALSCALE:GREGORIAN
BEGIN:VEVENT
UID:sabre-vobject-6013e240-805f-472b-bc75-1a94e98b486c
DTSTAMP:20260424T210124Z
SUMMARY:Oh What Fun! Ornament Time
DESCRIPTION:It&#39\;s time to deck the halls - EFMP style!\n\nCreate festiv
 e sensory ornaments for our tree that dazzle and delight!\n
X-ALT-DESC:FMTTYPE=text/html:<!DOCTYPE HTML PUBLIC "-//W3C//DTD HTML 3.2//E
 N"><HTML><p>It&#39\;s time to deck the halls - EFMP style!</p>\n\n<p>Creat
 e festive sensory ornaments for our tree that dazzle and delight!</p>\n</H
 TML>
CREATED;TZID=America/Chicago:20251105T112729
URL;VALUE=URI:https://rucker.armymwr.com/calendar/event
DTSTART;TZID=America/Chicago:20251204T150000
DTEND;TZID=America/Chicago:20251204T160000
SEQUENCE:0
END:VEVENT
END:VCALENDAR
