BEGIN:VCALENDAR
VERSION:2.0
PRODID:-//Sabre//Sabre VObject 4.5.8//EN
CALSCALE:GREGORIAN
BEGIN:VEVENT
UID:sabre-vobject-d33d47ec-ffcd-4ef6-bfac-32c6460126b7
DTSTAMP:20260425T035744Z
SUMMARY:Whimsical Winter Trees
DESCRIPTION:Feel that chill in the air? Maybe not? Well\, bring some winter
  into your home this season with a hand built ceramic tree.\n\nRegister by
  Nov. 29th\n
X-ALT-DESC:FMTTYPE=text/html:<!DOCTYPE HTML PUBLIC "-//W3C//DTD HTML 3.2//E
 N"><HTML><p>Feel that chill in the air? Maybe not? Well\, bring some winte
 r into your home this season with a hand built ceramic tree.</p>\n\n<p>Reg
 ister by Nov. 29th</p>\n</HTML>
CREATED;TZID=America/Chicago:20251105T112225
URL;VALUE=URI:https://rucker.armymwr.com/calendar/event
DTSTART;TZID=America/Chicago:20251203T180000
DTEND;TZID=America/Chicago:20251203T200000
SEQUENCE:0
END:VEVENT
END:VCALENDAR
