BEGIN:VCALENDAR
VERSION:2.0
PRODID:-//Sabre//Sabre VObject 4.5.8//EN
CALSCALE:GREGORIAN
BEGIN:VEVENT
UID:sabre-vobject-272bab8e-5fbe-4c01-b52e-5cf7d22a9a14
DTSTAMP:20260426T025055Z
SUMMARY:Retiree Health Fair Fall 2025
DESCRIPTION:FREE ADMISSION\n\nHealth Screenings\, Health Management\, Recre
 ation\, Fitness\, and more!\n
X-ALT-DESC:FMTTYPE=text/html:<!DOCTYPE HTML PUBLIC "-//W3C//DTD HTML 3.2//E
 N"><HTML><p>FREE ADMISSION</p>\n\n<p>Health Screenings\, Health Management
 \, Recreation\, Fitness\, and more!</p>\n</HTML>
CREATED;TZID=America/Chicago:20251002T162317
URL;VALUE=URI:https://rucker.armymwr.com/calendar/event
DTSTART;TZID=America/Chicago:20251031T080000
DTEND;TZID=America/Chicago:20251031T130000
SEQUENCE:0
END:VEVENT
END:VCALENDAR
